BEGIN:VCALENDAR
VERSION:2.0
PRODID:-//eventon.com NONSGML v1.0//EN
BEGIN:VEVENT
UID:69e88c83661a1
DTSTAMP:20260422T085323
DTSTART:20210411T151500Z
DTEND:20210411T235000Z
LOCATION:
SUMMARY:Sponsor Workshop
DESCRIPTION: Sponsor Workshop
END:VEVENT
END:VCALENDAR