BEGIN:VCALENDAR
VERSION:2.0
PRODID:-//eventon.com NONSGML v1.0//EN
BEGIN:VEVENT
UID:69e4f36429beb
DTSTAMP:20260419T152316
DTSTART:20191029T064500Z
DTEND:20191029T235000Z
LOCATION:
SUMMARY:Early Risers Run/Walk
DESCRIPTION: Lace up your sneakers and get your endorphins flowing with a little exercise. It’s the perfect start to a great day of content and networking!
END:VEVENT
END:VCALENDAR