BEGIN:VCALENDAR
VERSION:2.0
PRODID:-//eventon.com NONSGML v1.0//EN
BEGIN:VEVENT
UID:69e8c395396af
DTSTAMP:20260422T124821
DTSTART:20210203T132500Z
DTEND:20210203T235000Z
LOCATION:
SUMMARY:BE SEEN AND BE HEARD! Concurrent Collaboration Zones
DESCRIPTION: BE SEEN AND BE HEARD! Concurrent Collaboration Zones
END:VEVENT
END:VCALENDAR